BEGIN:VCALENDAR
VERSION:2.0
PRODID:-//GM Wesley So - ECPv4.4.0.1//NONSGML v1.0//EN
CALSCALE:GREGORIAN
METHOD:PUBLISH
X-WR-CALNAME:GM Wesley So
X-ORIGINAL-URL:http://wesleyso.com
X-WR-CALDESC:Events for GM Wesley So
BEGIN:VEVENT
DTSTART;VALUE=DATE:20180617
DTEND;VALUE=DATE:20180626
DTSTAMP:20180623T075809
CREATED:20180201T145128Z
LAST-MODIFIED:20180201T145128Z
UID:1528-1529193600-1530057599@wesleyso.com
SUMMARY:2018 GTC Vivendi Paris France
DESCRIPTION:
URL:http://wesleyso.com/event/2018-gtc-vivendi-paris-france/
END:VEVENT
BEGIN:VEVENT
DTSTART;VALUE=DATE:20180703
DTEND;VALUE=DATE:20180710
DTSTAMP:20180623T075809
CREATED:20180201T145503Z
LAST-MODIFIED:20180201T145503Z
UID:1530-1530576000-1531267199@wesleyso.com
SUMMARY:2018 XXXI Magistral de Ajedrez Leon Spain
DESCRIPTION:
URL:http://wesleyso.com/event/2018-xxxi-magistral-de-ajedrez-leon-spain/
LOCATION:Spain
END:VEVENT
BEGIN:VEVENT
DTSTART;VALUE=DATE:20180809
DTEND;VALUE=DATE:20180816
DTSTAMP:20180623T075809
CREATED:20180201T145655Z
LAST-MODIFIED:20180201T145655Z
UID:1533-1533772800-1534463999@wesleyso.com
SUMMARY:GCT St Louis Rapid Blitz
DESCRIPTION:
URL:http://wesleyso.com/event/gct-st-louis-rapid-blitz/
LOCATION:St Louis\, MO\, United States
END:VEVENT
BEGIN:VEVENT
DTSTART;VALUE=DATE:20180816
DTEND;VALUE=DATE:20180829
DTSTAMP:20180623T075809
CREATED:20180201T145841Z
LAST-MODIFIED:20180201T145841Z
UID:1535-1534377600-1535587199@wesleyso.com
SUMMARY:2018 The Sinquefield Cup
DESCRIPTION:
URL:http://wesleyso.com/event/2018-the-sinquefield-cup/
LOCATION:St Louis\, MO\, United States
END:VEVENT
BEGIN:VEVENT
DTSTART;VALUE=DATE:20180923
DTEND;VALUE=DATE:20181007
DTSTAMP:20180623T075809
CREATED:20170926T141201Z
LAST-MODIFIED:20180201T143025Z
UID:1502-1537660800-1538956799@wesleyso.com
SUMMARY:2018 43rd WORLD CHESS OLYMPIAD
DESCRIPTION:
URL:http://wesleyso.com/event/2018-chess-olympiad/
LOCATION:Georgia
END:VEVENT
BEGIN:VEVENT
DTSTART;VALUE=DATE:20181020
DTEND;VALUE=DATE:20181028
DTSTAMP:20180623T075809
CREATED:20180505T145953Z
LAST-MODIFIED:20180505T150054Z
UID:1545-1539993600-1540771199@wesleyso.com
SUMMARY:2018 Isle of Man International Chess.com Tournament
DESCRIPTION:
URL:http://wesleyso.com/event/2018-isle-of-man-international-chess-com-tournament/
END:VEVENT
END:VCALENDAR